BEGIN:VCALENDAR
VERSION:2.0
PRODID:DPCALENDAR
CALSCALE:GREGORIAN
BEGIN:VTIMEZONE
TZID:Europe/Berlin
X-MICROSOFT-CDO-TZID:4
BEGIN:STANDARD
DTSTART:20251026T010000
TZOFFSETFROM:+0200
TZOFFSETTO:+0100
TZNAME:CET
END:STANDARD
BEGIN:STANDARD
DTSTART:20261025T010000
TZOFFSETFROM:+0200
TZOFFSETTO:+0100
TZNAME:CET
END:STANDARD
BEGIN:DAYLIGHT
DTSTART:20260329T010000
TZOFFSETFROM:+0100
TZOFFSETTO:+0200
TZNAME:CEST
END:DAYLIGHT
END:VTIMEZONE
X-WR-TIMEZONE:Europe/Berlin
BEGIN:VEVENT
DTSTART;TZID=Europe/Berlin:20240710T190000
DTEND;TZID=Europe/Berlin:20240710T213000
UID:D21D878C-621D-4E47-B746-418886998A3D
SUMMARY:Präsidium
CREATED:20240625T131703Z
DTSTAMP:20240625T131703Z
URL:https://psg1868.de/termine/praesidium
X-ACCESS:1
X-HITS:0
X-COLOR:3366cc
X-SHOW-END-TIME:1
END:VEVENT
BEGIN:VEVENT
DTSTART;TZID=Europe/Berlin:20240710T190000
DTEND;TZID=Europe/Berlin:20240710T213000
UID:D50189F6-05BF-4F00-B82A-63FE9AAE8B45
SUMMARY:Präsidium
CREATED:20240625T131830Z
DTSTAMP:20240625T131830Z
URL:https://psg1868.de/termine/praesidium-2
X-ACCESS:1
X-HITS:0
X-COLOR:3366cc
X-SHOW-END-TIME:1
END:VEVENT
BEGIN:VEVENT
DTSTART;TZID=Europe/Berlin:20240911T190000
DTEND;TZID=Europe/Berlin:20240911T220000
UID:0DD5F1EB-3BEE-41CF-BFEE-B5A7C0D15A21
SUMMARY:Präsidiumssitzung
CREATED:20240917T132833Z
DTSTAMP:20240917T132833Z
URL:https://psg1868.de/termine/praesidiumssitzung
X-ACCESS:1
X-HITS:0
X-COLOR:3366cc
X-SHOW-END-TIME:1
END:VEVENT
BEGIN:VEVENT
DTSTART;TZID=Europe/Berlin:20241002T190000
DTEND;TZID=Europe/Berlin:20241002T220000
UID:7E966436-0192-4DA7-90E9-DCA2CB7CE7AA
SUMMARY:Präsidiumssitzung
CREATED:20240917T132950Z
DTSTAMP:20240917T132950Z
URL:https://psg1868.de/termine/praesidiumssitzung-2
X-ACCESS:1
X-HITS:0
X-COLOR:3366cc
X-SHOW-END-TIME:1
END:VEVENT
BEGIN:VEVENT
DTSTART;TZID=Europe/Berlin:20241113T190000
DTEND;TZID=Europe/Berlin:20241113T220000
UID:881644A4-A23B-4A45-A6A4-274E848D57E7
SUMMARY:Präsidiumssitzung
CREATED:20240917T133024Z
DTSTAMP:20240917T133024Z
URL:https://psg1868.de/termine/praesidiumssitzung-3
X-ACCESS:1
X-HITS:0
X-COLOR:3366cc
X-SHOW-END-TIME:1
END:VEVENT
BEGIN:VEVENT
DTSTART;TZID=Europe/Berlin:20241211T190000
DTEND;TZID=Europe/Berlin:20241211T220000
UID:B09A2F23-D95A-462F-AC49-7C907EEAA8FA
SUMMARY:Präsidiumssitzung
CREATED:20240917T133055Z
DTSTAMP:20240917T133055Z
URL:https://psg1868.de/termine/praesidiumssitzung-4
X-ACCESS:1
X-HITS:0
X-COLOR:3366cc
X-SHOW-END-TIME:1
END:VEVENT
BEGIN:VEVENT
DTSTART;TZID=Europe/Berlin:20250108T190000
DTEND;TZID=Europe/Berlin:20250108T210000
UID:CA1F9ED4-2C42-4D0B-A5FE-A93CA7095A22
SUMMARY:Präsidiumssitzung
CREATED:20250121T132914Z
DTSTAMP:20250121T132914Z
URL:https://psg1868.de/termine/praesidiumssitzung-5
LAST-MODIFIED:20250121T132914Z
SEQUENCE:0
X-ACCESS:1
X-HITS:0
X-COLOR:3366cc
X-SHOW-END-TIME:1
END:VEVENT
BEGIN:VEVENT
DTSTART;TZID=Europe/Berlin:20250212T190000
DTEND;TZID=Europe/Berlin:20250212T210000
UID:416FF347-23DE-41BE-9378-A7A9EFD28848
SUMMARY:Präsidiumssitzung
CREATED:20250121T133908Z
DTSTAMP:20250121T133908Z
URL:https://psg1868.de/termine/praesidiumssitzung-6
LAST-MODIFIED:20250121T133908Z
SEQUENCE:0
X-ACCESS:1
X-HITS:0
X-COLOR:3366cc
X-SHOW-END-TIME:1
END:VEVENT
BEGIN:VEVENT
DTSTART;TZID=Europe/Berlin:20250306T190000
DTEND;TZID=Europe/Berlin:20250306T213000
UID:61E7D6E2-C2AB-47FB-9103-27B87CE15C0B
SUMMARY:Präsidiumssitzung
CREATED:20250121T133436Z
DTSTAMP:20250121T133436Z
URL:https://psg1868.de/termine/praesidiumssitzung-7
LAST-MODIFIED:20250305T133804Z
SEQUENCE:3715408
X-ACCESS:1
X-HITS:0
X-COLOR:3366cc
X-SHOW-END-TIME:1
END:VEVENT
BEGIN:VEVENT
DTSTART;TZID=Europe/Berlin:20250403T190000
DTEND;TZID=Europe/Berlin:20250403T210000
UID:5944E296-2555-4447-AC81-22DB608AC240
SUMMARY:Präsidiumssitzung
CREATED:20250121T133500Z
DTSTAMP:20250121T133500Z
URL:https://psg1868.de/termine/praesidiumssitzung-8
LAST-MODIFIED:20250409T175750Z
SEQUENCE:6754970
X-ACCESS:1
X-HITS:0
X-COLOR:3366cc
X-SHOW-END-TIME:1
END:VEVENT
BEGIN:VEVENT
DTSTART;TZID=Europe/Berlin:20250508T190000
DTEND;TZID=Europe/Berlin:20250508T210000
UID:B7CFEC01-DC27-4B4D-AE6B-4AE1A426F0E4
SUMMARY:Präsidiumssitzung
CREATED:20250121T133525Z
DTSTAMP:20250121T133525Z
URL:https://psg1868.de/termine/praesidiumssitzung-9
LAST-MODIFIED:20250509T161441Z
SEQUENCE:9340756
X-ACCESS:1
X-HITS:0
X-COLOR:3366cc
X-SHOW-END-TIME:1
END:VEVENT
BEGIN:VEVENT
DTSTART;TZID=Europe/Berlin:20250605T190000
DTEND;TZID=Europe/Berlin:20250605T210000
UID:675422EE-41B9-47DA-A022-8D6106054D99
SUMMARY:Präsidiumssitzung
CREATED:20250121T133547Z
DTSTAMP:20250121T133547Z
URL:https://psg1868.de/termine/praesidiumssitzung-10
LAST-MODIFIED:20250605T173242Z
SEQUENCE:11678215
X-ACCESS:1
X-HITS:0
X-COLOR:3366cc
X-SHOW-END-TIME:1
END:VEVENT
BEGIN:VEVENT
DTSTART;TZID=Europe/Berlin:20250703T190000
DTEND;TZID=Europe/Berlin:20250703T210000
UID:5B2E51E3-6D6E-4D4E-AE00-E92D22F7A976
SUMMARY:Präsidiumssitzung
CREATED:20250121T133608Z
DTSTAMP:20250121T133608Z
URL:https://psg1868.de/termine/praesidiumssitzung-11
LAST-MODIFIED:20250629T174158Z
SEQUENCE:13752350
X-ACCESS:1
X-HITS:0
X-COLOR:3366cc
X-SHOW-END-TIME:1
END:VEVENT
BEGIN:VEVENT
DTSTART;TZID=Europe/Berlin:20250807T190000
DTEND;TZID=Europe/Berlin:20250807T210000
UID:B9042605-05CA-48F2-9338-2A88CA5C7411
SUMMARY:Präsidiumssitzung
CREATED:20250121T133632Z
DTSTAMP:20250121T133632Z
URL:https://psg1868.de/termine/praesidiumssitzung-12
LAST-MODIFIED:20250804T081301Z
SEQUENCE:16828589
X-ACCESS:1
X-HITS:0
X-COLOR:3366cc
X-SHOW-END-TIME:1
END:VEVENT
BEGIN:VEVENT
DTSTART;TZID=Europe/Berlin:20250918T190000
DTEND;TZID=Europe/Berlin:20250918T210000
UID:E7654FA3-40EB-4061-96C0-912ABFC1C8D8
SUMMARY:Präsidiumssitzung
CREATED:20250121T133720Z
DTSTAMP:20250121T133720Z
URL:https://psg1868.de/termine/praesidiumssitzung-17
LAST-MODIFIED:20250912T093438Z
SEQUENCE:20203038
X-ACCESS:1
X-HITS:0
X-COLOR:3366cc
X-SHOW-END-TIME:1
END:VEVENT
BEGIN:VEVENT
DTSTART;TZID=Europe/Berlin:20251009T190000
DTEND;TZID=Europe/Berlin:20251009T210000
UID:E7654FA3-40EB-4061-96C0-912ABFC1C8D8
SUMMARY:Präsidiumssitzung
CREATED:20250121T133720Z
DTSTAMP:20250121T133720Z
URL:https://psg1868.de/termine/praesidiumssitzung-14
LAST-MODIFIED:20250509T161607Z
SEQUENCE:9340727
X-ACCESS:1
X-HITS:0
X-COLOR:3366cc
X-SHOW-END-TIME:1
END:VEVENT
BEGIN:VEVENT
DTSTART;TZID=Europe/Berlin:20251113T190000
DTEND;TZID=Europe/Berlin:20251113T210000
UID:29DE1E4C-5E34-49CB-97AC-90F686183151
SUMMARY:Präsidiumssitzung
CREATED:20250121T133746Z
DTSTAMP:20250121T133746Z
URL:https://psg1868.de/termine/praesidiumssitzung-15
LAST-MODIFIED:20250509T161629Z
SEQUENCE:9340723
X-ACCESS:1
X-HITS:0
X-COLOR:3366cc
X-SHOW-END-TIME:1
END:VEVENT
BEGIN:VEVENT
DTSTART;TZID=Europe/Berlin:20251121T180000
DTEND;TZID=Europe/Berlin:20251121T223000
UID:9E9DF690-6C0A-4B91-8256-2BC42E397549
SUMMARY:Mitgliederversammlung
CREATED:20250121T110000Z
DTSTAMP:20250121T110000Z
URL:https://psg1868.de/termine/oeffentliches-training-77
LAST-MODIFIED:20251010T081021Z
SEQUENCE:22626621
X-ACCESS:1
X-HITS:0
X-COLOR:3366cc
X-SHOW-END-TIME:1
END:VEVENT
BEGIN:VEVENT
DTSTART;TZID=Europe/Berlin:20251211T190000
DTEND;TZID=Europe/Berlin:20251211T210000
UID:EAE3F0E6-1196-4BE8-8F1D-C95DC75C14CD
SUMMARY:Präsidiumssitzung
CREATED:20250121T133808Z
DTSTAMP:20250121T133808Z
URL:https://psg1868.de/termine/praesidiumssitzung-16
LAST-MODIFIED:20250509T161642Z
SEQUENCE:9340714
X-ACCESS:1
X-HITS:0
X-COLOR:3366cc
X-SHOW-END-TIME:1
END:VEVENT
BEGIN:VEVENT
DTSTART;TZID=Europe/Berlin:20260108T190000
DTEND;TZID=Europe/Berlin:20260108T210000
UID:C47BE446-5199-4994-8A8D-7B56AE80A2C1
SUMMARY:Präsidiumssitzung
CREATED:20250121T133808Z
DTSTAMP:20250121T133808Z
URL:https://psg1868.de/termine/praesidiumssitzung-18
LAST-MODIFIED:20251117T103818Z
SEQUENCE:25909210
X-ACCESS:1
X-HITS:0
X-COLOR:3366cc
X-SHOW-END-TIME:1
END:VEVENT
BEGIN:VEVENT
DTSTART;TZID=Europe/Berlin:20260207T100000
DTEND;TZID=Europe/Berlin:20260207T123000
UID:82A331A4-3BBB-49B3-89BF-106CF9675DF5
SUMMARY:Mitgliederversammlung 1/2026
CREATED:20250121T110000Z
DTSTAMP:20250121T110000Z
URL:https://psg1868.de/termine/oeffentliches-training-100
LAST-MODIFIED:20251230T093329Z
SEQUENCE:29630009
LOCATION:
GEO:47.00000000;4.00000000
X-LOCATION-DISPLAYNAME:Schießstand Burkhardtsdorf
X-ACCESS:1
X-HITS:0
X-COLOR:3366cc
X-SHOW-END-TIME:1
END:VEVENT
BEGIN:VEVENT
DTSTART;TZID=Europe/Berlin:20260212T190000
DTEND;TZID=Europe/Berlin:20260212T210000
UID:EE0BF4AE-F361-43C9-BFAB-DE2B1923003B
SUMMARY:Präsidiumssitzung
CREATED:20250121T133808Z
DTSTAMP:20250121T133808Z
URL:https://psg1868.de/termine/praesidiumssitzung-20
LAST-MODIFIED:20260123T154813Z
SEQUENCE:31716605
X-ACCESS:1
X-HITS:0
X-COLOR:3366cc
X-SHOW-END-TIME:1
END:VEVENT
BEGIN:VEVENT
DTSTART;TZID=Europe/Berlin:20260312T190000
DTEND;TZID=Europe/Berlin:20260312T210000
UID:9B26BFB2-6A52-4580-8020-DCB905E2B6B8
SUMMARY:Präsidiumssitzung
CREATED:20250121T133808Z
DTSTAMP:20250121T133808Z
URL:https://psg1868.de/termine/praesidiumssitzung-19
LAST-MODIFIED:20260123T154634Z
SEQUENCE:31716506
X-ACCESS:1
X-HITS:0
X-COLOR:3366cc
X-SHOW-END-TIME:1
END:VEVENT
BEGIN:VEVENT
DTSTART;TZID=Europe/Berlin:20260409T190000
DTEND;TZID=Europe/Berlin:20260409T210000
UID:B23936AA-34DF-4E59-A208-2D668158CF60
SUMMARY:Präsidiumssitzung
CREATED:20250121T133808Z
DTSTAMP:20250121T133808Z
URL:https://psg1868.de/termine/praesidiumssitzung-21
LAST-MODIFIED:20251117T103950Z
SEQUENCE:25909302
X-ACCESS:1
X-HITS:0
X-COLOR:3366cc
X-SHOW-END-TIME:1
END:VEVENT
BEGIN:VEVENT
DTSTART;TZID=Europe/Berlin:20260514T190000
DTEND;TZID=Europe/Berlin:20260514T210000
UID:E48F90CC-2112-49E7-A1D9-865FC85BD70A
SUMMARY:Präsidiumssitzung
CREATED:20250121T133808Z
DTSTAMP:20250121T133808Z
URL:https://psg1868.de/termine/praesidiumssitzung-22
LAST-MODIFIED:20251117T104014Z
SEQUENCE:25909326
X-ACCESS:1
X-HITS:0
X-COLOR:3366cc
X-SHOW-END-TIME:1
END:VEVENT
BEGIN:VEVENT
DTSTART;TZID=Europe/Berlin:20260611T190000
DTEND;TZID=Europe/Berlin:20260611T210000
UID:D29CE806-85A8-45E0-A598-2FB655DA3895
SUMMARY:Präsidiumssitzung
CREATED:20250121T133808Z
DTSTAMP:20250121T133808Z
URL:https://psg1868.de/termine/praesidiumssitzung-23
LAST-MODIFIED:20251117T104044Z
SEQUENCE:25909356
X-ACCESS:1
X-HITS:0
X-COLOR:3366cc
X-SHOW-END-TIME:1
END:VEVENT
BEGIN:VEVENT
DTSTART;TZID=Europe/Berlin:20260612T180000
DTEND;TZID=Europe/Berlin:20260612T203000
UID:02A48AF2-CAC2-447C-84C0-40EC22E87669
SUMMARY:Mitgliederversammlung 2/2026
CREATED:20250121T110000Z
DTSTAMP:20250121T110000Z
URL:https://psg1868.de/termine/oeffentliches-training-104
LAST-MODIFIED:20251230T093429Z
SEQUENCE:29630069
LOCATION:
GEO:47.00000000;4.00000000
X-LOCATION-DISPLAYNAME:Schießstand Burkhardtsdorf
X-ACCESS:1
X-HITS:0
X-COLOR:3366cc
X-SHOW-END-TIME:1
END:VEVENT
BEGIN:VEVENT
DTSTART;TZID=Europe/Berlin:20260709T190000
DTEND;TZID=Europe/Berlin:20260709T210000
UID:6351B13E-11D0-46ED-98CB-7100629CC8E9
SUMMARY:Präsidiumssitzung
CREATED:20250121T133808Z
DTSTAMP:20250121T133808Z
URL:https://psg1868.de/termine/praesidiumssitzung-24
LAST-MODIFIED:20251117T104103Z
SEQUENCE:25909375
X-ACCESS:1
X-HITS:0
X-COLOR:3366cc
X-SHOW-END-TIME:1
END:VEVENT
BEGIN:VEVENT
DTSTART;TZID=Europe/Berlin:20260806T190000
DTEND;TZID=Europe/Berlin:20260806T210000
UID:A7AEB696-AFCF-4FB3-91D2-BCEB11DC8612
SUMMARY:Präsidiumssitzung
CREATED:20250121T133808Z
DTSTAMP:20250121T133808Z
URL:https://psg1868.de/termine/praesidiumssitzung-25
LAST-MODIFIED:20251117T104122Z
SEQUENCE:25909394
X-ACCESS:1
X-HITS:0
X-COLOR:3366cc
X-SHOW-END-TIME:1
END:VEVENT
BEGIN:VEVENT
DTSTART;TZID=Europe/Berlin:20260815T150000
DTEND;TZID=Europe/Berlin:20260815T220000
UID:57201EDA-C19D-4037-A9C1-B77B60FA4BE6
SUMMARY:Veranstaltung
CREATED:20260325T083354Z
DTSTAMP:20260325T083354Z
URL:https://psg1868.de/termine/praesidiumssitzung-30
LAST-MODIFIED:20260325T083354Z
SEQUENCE:0
X-ACCESS:1
X-HITS:0
X-COLOR:3366cc
X-SHOW-END-TIME:1
END:VEVENT
BEGIN:VEVENT
DTSTART;TZID=Europe/Berlin:20260910T190000
DTEND;TZID=Europe/Berlin:20260910T210000
UID:5C69F9E7-D165-465B-858E-38FAE5E7DD3F
SUMMARY:Präsidiumssitzung
CREATED:20250121T133808Z
DTSTAMP:20250121T133808Z
URL:https://psg1868.de/termine/praesidiumssitzung-26
LAST-MODIFIED:20251117T104138Z
SEQUENCE:25909410
X-ACCESS:1
X-HITS:0
X-COLOR:3366cc
X-SHOW-END-TIME:1
END:VEVENT
BEGIN:VEVENT
DTSTART;TZID=Europe/Berlin:20261008T190000
DTEND;TZID=Europe/Berlin:20261008T210000
UID:5054B223-F8E1-4FBE-BB64-F0649EBAD974
SUMMARY:Präsidiumssitzung
CREATED:20250121T133808Z
DTSTAMP:20250121T133808Z
URL:https://psg1868.de/termine/praesidiumssitzung-27
LAST-MODIFIED:20251117T104153Z
SEQUENCE:25909425
X-ACCESS:1
X-HITS:0
X-COLOR:3366cc
X-SHOW-END-TIME:1
END:VEVENT
BEGIN:VEVENT
DTSTART;TZID=Europe/Berlin:20261112T190000
DTEND;TZID=Europe/Berlin:20261112T210000
UID:F441A006-28E4-4A3E-ACC5-5FFB4B3905E7
SUMMARY:Präsidiumssitzung
CREATED:20250121T133808Z
DTSTAMP:20250121T133808Z
URL:https://psg1868.de/termine/praesidiumssitzung-28
LAST-MODIFIED:20251117T104209Z
SEQUENCE:25909441
X-ACCESS:1
X-HITS:0
X-COLOR:3366cc
X-SHOW-END-TIME:1
END:VEVENT
BEGIN:VEVENT
DTSTART;TZID=Europe/Berlin:20261210T190000
DTEND;TZID=Europe/Berlin:20261210T210000
UID:31C1296F-B1FB-43CF-984C-5317E6F05644
SUMMARY:Präsidiumssitzung
CREATED:20250121T133808Z
DTSTAMP:20250121T133808Z
URL:https://psg1868.de/termine/praesidiumssitzung-29
LAST-MODIFIED:20251117T104625Z
SEQUENCE:25909697
X-ACCESS:1
X-HITS:0
X-COLOR:3366cc
X-SHOW-END-TIME:1
END:VEVENT
END:VCALENDAR